BEGIN:VCALENDAR
VERSION:2.0
PRODID:-//CAL Willa z pasją - ECPv6.15.20//NONSGML v1.0//EN
CALSCALE:GREGORIAN
METHOD:PUBLISH
X-WR-CALNAME:CAL Willa z pasją
X-ORIGINAL-URL:https://www.willazpasja.pl
X-WR-CALDESC:Wydarzenia dla CAL Willa z pasją
REFRESH-INTERVAL;VALUE=DURATION:PT1H
X-Robots-Tag:noindex
X-PUBLISHED-TTL:PT1H
BEGIN:VTIMEZONE
TZID:Europe/Warsaw
BEGIN:DAYLIGHT
TZOFFSETFROM:+0100
TZOFFSETTO:+0200
TZNAME:CEST
DTSTART:20190331T010000
END:DAYLIGHT
BEGIN:STANDARD
TZOFFSETFROM:+0200
TZOFFSETTO:+0100
TZNAME:CET
DTSTART:20191027T010000
END:STANDARD
BEGIN:DAYLIGHT
TZOFFSETFROM:+0100
TZOFFSETTO:+0200
TZNAME:CEST
DTSTART:20200329T010000
END:DAYLIGHT
BEGIN:STANDARD
TZOFFSETFROM:+0200
TZOFFSETTO:+0100
TZNAME:CET
DTSTART:20201025T010000
END:STANDARD
BEGIN:DAYLIGHT
TZOFFSETFROM:+0100
TZOFFSETTO:+0200
TZNAME:CEST
DTSTART:20210328T010000
END:DAYLIGHT
BEGIN:STANDARD
TZOFFSETFROM:+0200
TZOFFSETTO:+0100
TZNAME:CET
DTSTART:20211031T010000
END:STANDARD
END:VTIMEZONE
BEGIN:VEVENT
DTSTART;TZID=Europe/Warsaw:20200909T160000
DTEND;TZID=Europe/Warsaw:20200909T180000
DTSTAMP:20260421T141131
CREATED:20200906T170706Z
LAST-MODIFIED:20200908T142354Z
UID:470-1599667200-1599674400@www.willazpasja.pl
SUMMARY:warsztat artystyczny | zrobione z papieru cz.2
DESCRIPTION:warsztat artystyczny | zrobione z papieru\nTo będzie drugie spotkanie z techniką papier mâché. Będziemy kończyć nasze dzieła. \nPapier mâché to sztuka tworzenia przedmiotów z nakładanych na siebie warstw papieru oraz substancji wiążących – kleju\, gipsu lub krochmalu. W ten sposób masa papierowa może upodabniać się do wielu surowców\, m.in. gliny\, drewna\, brązu\, kamienia. A z tego mogą powstać już cuda! \n\nUdział w spotkaniu jest bezpłatny\, jednak ze względu na limit miejsc\, wcześniej trzeba się zapisać. Zapisy przyjmujemy na adres cal@dlatorunia.pl lub pod numerem telefonu 794-687-133. \n\nProjekt finansowany ze środków Gminy Miasta Torunia.
URL:https://www.willazpasja.pl/wydarzenie/spotkanie-warsztat-artystyczny-zrobione-z-papieru-2/
LOCATION:sala duża\, ul. Grunwaldzka 38\, Toruń\, Poland\, 87-100\, Poland
CATEGORIES:dla dorosłych,dla dzieci,dla seniorów
ATTACH;FMTTYPE=image/jpeg:https://www.willazpasja.pl/wp-content/uploads/2020/08/paper-mache_1200x628.jpg
ORGANIZER;CN="CAL Willa z pasj%C4%85":MAILTO:cal@dlatorunia.pl
END:VEVENT
END:VCALENDAR