BEGIN:VCALENDAR
VERSION:2.0
PRODID:-//CAL Willa z pasją - ECPv6.15.20//NONSGML v1.0//EN
CALSCALE:GREGORIAN
METHOD:PUBLISH
X-WR-CALNAME:CAL Willa z pasją
X-ORIGINAL-URL:https://www.willazpasja.pl
X-WR-CALDESC:Wydarzenia dla CAL Willa z pasją
REFRESH-INTERVAL;VALUE=DURATION:PT1H
X-Robots-Tag:noindex
X-PUBLISHED-TTL:PT1H
BEGIN:VTIMEZONE
TZID:Europe/Warsaw
BEGIN:DAYLIGHT
TZOFFSETFROM:+0100
TZOFFSETTO:+0200
TZNAME:CEST
DTSTART:20190331T010000
END:DAYLIGHT
BEGIN:STANDARD
TZOFFSETFROM:+0200
TZOFFSETTO:+0100
TZNAME:CET
DTSTART:20191027T010000
END:STANDARD
BEGIN:DAYLIGHT
TZOFFSETFROM:+0100
TZOFFSETTO:+0200
TZNAME:CEST
DTSTART:20200329T010000
END:DAYLIGHT
BEGIN:STANDARD
TZOFFSETFROM:+0200
TZOFFSETTO:+0100
TZNAME:CET
DTSTART:20201025T010000
END:STANDARD
BEGIN:DAYLIGHT
TZOFFSETFROM:+0100
TZOFFSETTO:+0200
TZNAME:CEST
DTSTART:20210328T010000
END:DAYLIGHT
BEGIN:STANDARD
TZOFFSETFROM:+0200
TZOFFSETTO:+0100
TZNAME:CET
DTSTART:20211031T010000
END:STANDARD
END:VTIMEZONE
BEGIN:VEVENT
DTSTART;TZID=Europe/Warsaw:20200909T090000
DTEND;TZID=Europe/Warsaw:20200909T093000
DTSTAMP:20260421T181253
CREATED:20200903T131807Z
LAST-MODIFIED:20200908T142425Z
UID:464-1599642000-1599643800@www.willazpasja.pl
SUMMARY:muzyka dla smyka
DESCRIPTION:muzyka dla smyka\nZajęcia muzyczno-rytmiczne dla dzieci w wieku 2\,5-4 lata. \nTo czas tańców\, śpiewu\, podskoków i klaskania w rytm ulubionych piosenek dla dzieci. \nGłównym celem zajęć 'Muzyka dla smyka’  jest jednoczesne rozwijanie mowy\, myślenia\, słuchania\, postrzegania i koordynacji ruchowej. Tak ważnych kompetencji w rozwoju dzieci. Podczas zabaw muzyczno-ruchowych\, które poprowadzą moderatorki z Fundacji Wspieramy Kulture Sztukart\, dzieci wykształcą wrażliwość na bodźce dźwiękowe i twórczo wykorzystają swoją naturalną potrzebę ruchu. \nDzieci uczęszczające do przedszkoli\, mają zajęcia rytmiki wpisane w plan dnia\, ponieważ jest to ważny element wspierający rozwój dziecka. Jeśli więc chcesz zapewnić swojemu dziecku wielotorowy rozwój\, koniecznie przyjdźcie na nasze zajęcia 'Muzyka dla smyka’. Poza tym\, dzieci lubią brać udział w zajęciach rytmicznych\, które zwykle są dla nich po prostu przyjemną zabawą. 🙂 \n\nUdział jest bezpłatny\, jednak ze względu na limit miejsc\, wcześniej trzeba się zapisać. Zapisy przyjmujemy na adres cal@dlatorunia.pl lub pod numerem telefonu 794-687-133. \nProjekt finansowany ze środków Gminy Miasta Torunia.
URL:https://www.willazpasja.pl/wydarzenie/muzyka-dla-smyka/
LOCATION:sala teatralna\, ul. Grunwaldzka 38\, Toruń
CATEGORIES:dla dzieci
ATTACH;FMTTYPE=image/jpeg:https://www.willazpasja.pl/wp-content/uploads/2020/09/muzyka_dla_smyka_1200x628.jpg
END:VEVENT
END:VCALENDAR