BEGIN:VCALENDAR
VERSION:2.0
PRODID:-//CAL Willa z pasją - ECPv6.15.20//NONSGML v1.0//EN
CALSCALE:GREGORIAN
METHOD:PUBLISH
X-ORIGINAL-URL:https://www.willazpasja.pl
X-WR-CALDESC:Wydarzenia dla CAL Willa z pasją
REFRESH-INTERVAL;VALUE=DURATION:PT1H
X-Robots-Tag:noindex
X-PUBLISHED-TTL:PT1H
BEGIN:VTIMEZONE
TZID:Europe/Warsaw
BEGIN:DAYLIGHT
TZOFFSETFROM:+0100
TZOFFSETTO:+0200
TZNAME:CEST
DTSTART:20190331T010000
END:DAYLIGHT
BEGIN:STANDARD
TZOFFSETFROM:+0200
TZOFFSETTO:+0100
TZNAME:CET
DTSTART:20191027T010000
END:STANDARD
BEGIN:DAYLIGHT
TZOFFSETFROM:+0100
TZOFFSETTO:+0200
TZNAME:CEST
DTSTART:20200329T010000
END:DAYLIGHT
BEGIN:STANDARD
TZOFFSETFROM:+0200
TZOFFSETTO:+0100
TZNAME:CET
DTSTART:20201025T010000
END:STANDARD
BEGIN:DAYLIGHT
TZOFFSETFROM:+0100
TZOFFSETTO:+0200
TZNAME:CEST
DTSTART:20210328T010000
END:DAYLIGHT
BEGIN:STANDARD
TZOFFSETFROM:+0200
TZOFFSETTO:+0100
TZNAME:CET
DTSTART:20211031T010000
END:STANDARD
END:VTIMEZONE
BEGIN:VEVENT
DTSTART;TZID=Europe/Warsaw:20200906T080000
DTEND;TZID=Europe/Warsaw:20200906T170000
DTSTAMP:20260421T153510
CREATED:20200906T171319Z
LAST-MODIFIED:20200908T142456Z
UID:472-1599379200-1599411600@www.willazpasja.pl
SUMMARY:laboratorium teatralne | zmalujmy coś cz. 2
DESCRIPTION:laboratorium teatralne | zmalujmy coś\nWarsztaty teatralne dla dzieci w wieku 7-12 lat. \nBędziemy kontynuować aranżację naszej sali teatralnej. Jeszcze raz zejdziemy do piwnicy naszej willi gdzie wspólnie stworzymy teatralną scenografię i ozdobimy salę teatralną. Będzie kolorowo i magicznie. Na koniec nasze malunki zaświecą w ciemnościach. To będzie niesamowity efekt wizualny! \n„Laboratorium teatralne”\, to propozycja dla dzieci\, które chciałyby doświadczyć eksperymentów z różnymi formami teatru\, poznać teatr od podszewki\, wejść w rolę reżysera\, scenografa\, aktora oraz poznać pozostałe teatralne zawody. Świetna zabawa z wyobraźnią gwarantowana! \n\nUdział jest bezpłatny\, jednak ze względu na limit miejsc\, wcześniej trzeba się zapisać. Zapisy przyjmujemy na adres cal@dlatorunia.pl lub pod numerem telefonu 794-687-133. \nProjekt finansowany ze środków Gminy Miasta Torunia.
URL:https://www.willazpasja.pl/wydarzenie/laboratorium-teatralne-zmalujmy-cos-2/
CATEGORIES:dla dzieci
ATTACH;FMTTYPE=image/jpeg:https://www.willazpasja.pl/wp-content/uploads/2020/08/zmalujmy-cos-wydarzenie-1200x628-1.jpg
END:VEVENT
BEGIN:VEVENT
DTSTART;TZID=Europe/Warsaw:20200902T161500
DTEND;TZID=Europe/Warsaw:20200902T174500
DTSTAMP:20260421T153510
CREATED:20200831T170755Z
LAST-MODIFIED:20200908T142612Z
UID:446-1599063300-1599068700@www.willazpasja.pl
SUMMARY:laboratorium teatralne | zmalujmy coś
DESCRIPTION:laboratorium teatralne | zmalujmy coś\nWarsztaty teatralne dla dzieci w wieku 7-12 lat. \nPonownie zapraszamy na na malarskie szaleństwo! Jeszcze raz zejdziemy do piwnicy naszej willi gdzie wspólnie stworzymy teatralną scenografię i ozdobimy salę teatralną. Będzie kolorowo i magicznie. Na koniec nasze malunki zaświecą w ciemnościach. To będzie niesamowity efekt wizualny! \n„Laboratorium teatralne”\, to propozycja dla dzieci\, które chciałyby doświadczyć eksperymentów z różnymi formami teatru\, poznać teatr od podszewki\, wejść w rolę reżysera\, scenografa\, aktora oraz poznać pozostałe teatralne zawody. Świetna zabawa z wyobraźnią gwarantowana! \n\nUdział jest bezpłatny\, jednak ze względu na limit miejsc\, wcześniej trzeba się zapisać. Zapisy przyjmujemy na adres cal@dlatorunia.pl lub pod numerem telefonu 794-687-133. \nProjekt finansowany ze środków Gminy Miasta Torunia.
URL:https://www.willazpasja.pl/wydarzenie/laboratorium-teatralne-zmalujmy-cos/
LOCATION:piwnica
CATEGORIES:dla dzieci
ATTACH;FMTTYPE=image/jpeg:https://www.willazpasja.pl/wp-content/uploads/2020/08/zmalujmy-cos-wydarzenie-1200x628-1.jpg
ORGANIZER;CN="CAL Willa z pasj%C4%85":MAILTO:cal@dlatorunia.pl
END:VEVENT
BEGIN:VEVENT
DTSTART;TZID=Europe/Warsaw:20200827T120000
DTEND;TZID=Europe/Warsaw:20200827T133000
DTSTAMP:20260421T153510
CREATED:20200822T083007Z
LAST-MODIFIED:20200822T083008Z
UID:431-1598529600-1598535000@www.willazpasja.pl
SUMMARY:letnie laboratorium teatralne | zmalujmy coś
DESCRIPTION:letnie laboratorium teatralne | zmalujmy coś\nWarsztaty teatralne dla dzieci w wieku 7-12 lat. \nNa zakończenie wakacji zapraszamy na malarskie szaleństwo! Tym razem zejdziemy do piwnicy naszej willi gdzie wspólnie stworzymy teatralną scenografię i ozdobimy salę teatralną. Będzie kolorowo i magicznie. Na koniec nasze malunki zaświecą w ciemnościach. To będzie niesamowity efekt wizualny! \n„Letnie laboratorium teatralne”\, to wakacyjna propozycja dla dzieci\, które chciałyby doświadczyć eksperymentów z różnymi formami teatru\, poznać teatr od podszewki\, wejść w rolę reżysera\, scenografa\, aktora oraz poznać pozostałe teatralne zawody. Świetna zabawa z wyobraźnią gwarantowana! \n\nUdział jest bezpłatny\, jednak ze względu na limit miejsc\, wcześniej trzeba się zapisać. Zapisy przyjmujemy na adres cal@dlatorunia.pl lub pod numerem telefonu 794-687-133. \nProjekt finansowany ze środków Gminy Miasta Torunia.
URL:https://www.willazpasja.pl/wydarzenie/letnie-laboratorium-teatralne-zmalujmy-cos/
LOCATION:piwnica
CATEGORIES:dla dzieci
ATTACH;FMTTYPE=image/jpeg:https://www.willazpasja.pl/wp-content/uploads/2020/08/zmalujmy-cos-wydarzenie-1200x628-1.jpg
ORGANIZER;CN="CAL Willa z pasj%C4%85":MAILTO:cal@dlatorunia.pl
END:VEVENT
BEGIN:VEVENT
DTSTART;TZID=Europe/Warsaw:20200813T120000
DTEND;TZID=Europe/Warsaw:20200813T133000
DTSTAMP:20260421T153510
CREATED:20200804T122850Z
LAST-MODIFIED:20200804T122904Z
UID:353-1597320000-1597325400@www.willazpasja.pl
SUMMARY:letnie laboratorium teatralne | teatr w kuchni
DESCRIPTION:letnie laboratorium teatralne | teatr w kuchni\nWarsztaty teatralne dla dzieci w wieku 7-12 lat. Można poznać teatr „od kuchni”\, albo właśnie w kuchni zrobić teatr! Łyżki\, widelce\, drewniane przybory kuchenne z pomocą dzieci ożyją i opowiedzą nam o swoim kuchennym życiu. \n„Letnie laboratorium teatralne”\, to wakacyjna propozycja dla dzieci\, które chciałyby doświadczyć eksperymentów z różnymi formami teatru\, poznać teatr od podszewki\, wejść w rolę reżysera\, scenografa\, aktora oraz poznać pozostałe teatralne zawody. Świetna zabawa z wyobraźnią gwarantowana! \n\nUdział jest bezpłatny\, jednak ze względu na limit miejsc\, wcześniej trzeba się zapisać. Zapisy przyjmujemy na adres cal@dlatorunia.pl lub pod numerem telefonu 794-687-133. \nProjekt finansowany ze środków Gminy Miasta Torunia.
URL:https://www.willazpasja.pl/wydarzenie/letnie-laboratorium-teatralne-teatr-w-kuchni/
LOCATION:kuchnia
CATEGORIES:dla dzieci
ATTACH;FMTTYPE=image/jpeg:https://www.willazpasja.pl/wp-content/uploads/2020/08/teatr-w-kuchni_1200x628.jpg
ORGANIZER;CN="CAL Willa z pasj%C4%85":MAILTO:cal@dlatorunia.pl
END:VEVENT
BEGIN:VEVENT
DTSTART;TZID=Europe/Warsaw:20200806T120000
DTEND;TZID=Europe/Warsaw:20200806T133000
DTSTAMP:20260421T153510
CREATED:20200804T085425Z
LAST-MODIFIED:20200804T085426Z
UID:335-1596715200-1596720600@www.willazpasja.pl
SUMMARY:letnie laboratorium teatralne | zabawy z cieniem
DESCRIPTION:letnie laboratorium teatralne | zabawy z cieniem\nWarsztaty teatralne dla dzieci w wieku 7-12 lat. Tym razem sprawdzimy\, co kryje się w cieniu. Co z cieniem można zrobić i jak go wydobyć z całkowitej ciemności. Kto ma latarkę\, niech przyniesie ze sobą! \n„Letnie laboratorium teatralne”\, to wakacyjna propozycja dla dzieci\, które chciałyby doświadczyć eksperymentów z różnymi formami teatru\, poznać teatr od podszewki\, wejść w rolę reżysera\, scenografa\, aktora oraz poznać pozostałe teatralne zawody. Świetna zabawa z wyobraźnią gwarantowana! \n\nUdział jest bezpłatny\, jednak ze względu na limit miejsc\, wcześniej trzeba się zapisać. Zapisy przyjmujemy na adres cal@dlatorunia.pl lub pod numerem telefonu 794-687-133. \nProjekt finansowany ze środków Gminy Miasta Torunia.
URL:https://www.willazpasja.pl/wydarzenie/letnie-laboratorium-teatralne-zabawy-z-cieniem/
LOCATION:piwnica
CATEGORIES:dla dzieci
ATTACH;FMTTYPE=image/jpeg:https://www.willazpasja.pl/wp-content/uploads/2020/08/cien_1200x628.jpg
ORGANIZER;CN="CAL Willa z pasj%C4%85":MAILTO:cal@dlatorunia.pl
END:VEVENT
BEGIN:VEVENT
DTSTART;TZID=Europe/Warsaw:20200730T120000
DTEND;TZID=Europe/Warsaw:20200730T133000
DTSTAMP:20260421T153510
CREATED:20200728T151358Z
LAST-MODIFIED:20200729T063719Z
UID:288-1596110400-1596115800@www.willazpasja.pl
SUMMARY:letnie laboratorium teatralne 3
DESCRIPTION:letnie laboratorium teatralne\nWarsztaty teatralne dla dzieci w wieku 7-12 lat. \n„Letnie laboratorium teatralne”\, to wakacyjna propozycja dla dzieci\, które chciałyby doświadczyć eksperymentów z różnymi formami teatru\, poznać teatr od podszewki\, wejść w rolę reżysera\, scenografa\, aktora oraz poznać pozostałe teatralne zawody. Świetna zabawa z wyobraźnią gwarantowana! \nUdział jest bezpłatny\, jednak ze względu na limit miejsc\, wcześniej trzeba się zapisać. Zapisy przyjmujemy na adres cal@dlatorunia.pl lub pod numerem telefonu 794-687-133. \nProjekt finansowany ze środków Gminy Miasta Torunia.
URL:https://www.willazpasja.pl/wydarzenie/letnie-laboratorium-teatralne-3/
LOCATION:sala teatralna\, ul. Grunwaldzka 38\, Toruń
CATEGORIES:dla dzieci
ATTACH;FMTTYPE=image/jpeg:https://www.willazpasja.pl/wp-content/uploads/2020/07/letnie-laboratorium-teatralne-1200x628-1.jpg
ORGANIZER;CN="CAL Willa z pasj%C4%85":MAILTO:cal@dlatorunia.pl
END:VEVENT
BEGIN:VEVENT
DTSTART;TZID=Europe/Warsaw:20200723T120000
DTEND;TZID=Europe/Warsaw:20200723T133000
DTSTAMP:20260421T153510
CREATED:20200719T101626Z
LAST-MODIFIED:20200720T165839Z
UID:207-1595505600-1595511000@www.willazpasja.pl
SUMMARY:letnie laboratorium teatralne 2
DESCRIPTION:letnie laboratorium teatralne\nWarsztaty teatralne dla dzieci w wieku 7-12 lat. \n„Letnie laboratorium teatralne”\, to wakacyjna propozycja dla dzieci\, które chciałyby doświadczyć eksperymentów z różnymi formami teatru\, poznać teatr od podszewki\, wejść w rolę reżysera\, scenografa\, aktora oraz poznać pozostałe teatralne zawody. Świetna zabawa z wyobraźnią gwarantowana! \nUdział jest bezpłatny\, jednak ze względu na limit miejsc\, wcześniej trzeba się zapisać. Zapisy przyjmujemy na adres cal@dlatorunia.pl lub pod numerem telefonu 794-687-133. \nProjekt finansowany ze środków Gminy Miasta Torunia.
URL:https://www.willazpasja.pl/wydarzenie/letnie-laboratorium-teatralne-2/
LOCATION:sala teatralna\, ul. Grunwaldzka 38\, Toruń
CATEGORIES:dla dzieci
ATTACH;FMTTYPE=image/jpeg:https://www.willazpasja.pl/wp-content/uploads/2020/07/rodzinna-uczta-zmysłów_1200x628.jpg
ORGANIZER;CN="CAL Willa z pasj%C4%85":MAILTO:cal@dlatorunia.pl
END:VEVENT
END:VCALENDAR