BEGIN:VCALENDAR
VERSION:2.0
PRODID:-//CAL Willa z pasją - ECPv6.15.20//NONSGML v1.0//EN
CALSCALE:GREGORIAN
METHOD:PUBLISH
X-ORIGINAL-URL:https://www.willazpasja.pl
X-WR-CALDESC:Wydarzenia dla CAL Willa z pasją
REFRESH-INTERVAL;VALUE=DURATION:PT1H
X-Robots-Tag:noindex
X-PUBLISHED-TTL:PT1H
BEGIN:VTIMEZONE
TZID:Europe/Warsaw
BEGIN:DAYLIGHT
TZOFFSETFROM:+0100
TZOFFSETTO:+0200
TZNAME:CEST
DTSTART:20190331T010000
END:DAYLIGHT
BEGIN:STANDARD
TZOFFSETFROM:+0200
TZOFFSETTO:+0100
TZNAME:CET
DTSTART:20191027T010000
END:STANDARD
BEGIN:DAYLIGHT
TZOFFSETFROM:+0100
TZOFFSETTO:+0200
TZNAME:CEST
DTSTART:20200329T010000
END:DAYLIGHT
BEGIN:STANDARD
TZOFFSETFROM:+0200
TZOFFSETTO:+0100
TZNAME:CET
DTSTART:20201025T010000
END:STANDARD
BEGIN:DAYLIGHT
TZOFFSETFROM:+0100
TZOFFSETTO:+0200
TZNAME:CEST
DTSTART:20210328T010000
END:DAYLIGHT
BEGIN:STANDARD
TZOFFSETFROM:+0200
TZOFFSETTO:+0100
TZNAME:CET
DTSTART:20211031T010000
END:STANDARD
END:VTIMEZONE
BEGIN:VEVENT
DTSTART;TZID=Europe/Warsaw:20200827T100000
DTEND;TZID=Europe/Warsaw:20200827T110000
DTSTAMP:20260421T174244
CREATED:20200822T081548Z
LAST-MODIFIED:20200822T081548Z
UID:426-1598522400-1598526000@www.willazpasja.pl
SUMMARY:rodzinna uczta zmysłów | w krainie lodu
DESCRIPTION:rodzinna uczta zmysłów | w krainie lodu\nZajęcia badawcze i sensoryczne kierowane do dzieci w wieku 3-6 lat i ich opiekunów. \nLód jest fascynujący! Na ostatnim wakacyjnym spotkaniu\, nasi milusińscy zamienią się w archeologów i odkryją skarby schowane… w lodzie. Za oknem mamy gorące lato\, więc odkrywanie zamrożonych skarbów będzie niezwykle atrakcyjne\, a lodowa zabawa wspaniale umili czas. \nZajęcia mogą stać się również inspiracją dla rodziców\, którzy chcą zrobić coś kreatywnego i rozwijającego ze swoimi pociechami.\n\n\n\n\nUdział jest bezpłatny\, jednak ze względu na limit miejsc\, wcześniej trzeba się zapisać. Zapisy przyjmujemy na adres cal@dlatorunia.pl lub pod numerem telefonu 794-687-133. \nProjekt finansowany ze środków Gminy Miasta Torunia.
URL:https://www.willazpasja.pl/wydarzenie/rodzinna-uczta-zmyslow-w-krainie-lodu/
LOCATION:ogród
CATEGORIES:dla dzieci,dla rodziny
ATTACH;FMTTYPE=image/jpeg:https://www.willazpasja.pl/wp-content/uploads/2020/08/rodzinna-uczta-zmyslow-w-krainie-lodu-wydarzenie-1200x628-1.jpg
ORGANIZER;CN="CAL Willa z pasj%C4%85":MAILTO:cal@dlatorunia.pl
END:VEVENT
END:VCALENDAR