BEGIN:VCALENDAR
VERSION:2.0
PRODID:-//CAL Willa z pasją - ECPv6.15.20//NONSGML v1.0//EN
CALSCALE:GREGORIAN
METHOD:PUBLISH
X-WR-CALNAME:CAL Willa z pasją
X-ORIGINAL-URL:https://www.willazpasja.pl
X-WR-CALDESC:Wydarzenia dla CAL Willa z pasją
REFRESH-INTERVAL;VALUE=DURATION:PT1H
X-Robots-Tag:noindex
X-PUBLISHED-TTL:PT1H
BEGIN:VTIMEZONE
TZID:Europe/Warsaw
BEGIN:DAYLIGHT
TZOFFSETFROM:+0100
TZOFFSETTO:+0200
TZNAME:CEST
DTSTART:20190331T010000
END:DAYLIGHT
BEGIN:STANDARD
TZOFFSETFROM:+0200
TZOFFSETTO:+0100
TZNAME:CET
DTSTART:20191027T010000
END:STANDARD
BEGIN:DAYLIGHT
TZOFFSETFROM:+0100
TZOFFSETTO:+0200
TZNAME:CEST
DTSTART:20200329T010000
END:DAYLIGHT
BEGIN:STANDARD
TZOFFSETFROM:+0200
TZOFFSETTO:+0100
TZNAME:CET
DTSTART:20201025T010000
END:STANDARD
BEGIN:DAYLIGHT
TZOFFSETFROM:+0100
TZOFFSETTO:+0200
TZNAME:CEST
DTSTART:20210328T010000
END:DAYLIGHT
BEGIN:STANDARD
TZOFFSETFROM:+0200
TZOFFSETTO:+0100
TZNAME:CET
DTSTART:20211031T010000
END:STANDARD
END:VTIMEZONE
BEGIN:VEVENT
DTSTART;TZID=Europe/Warsaw:20200820T140000
DTEND;TZID=Europe/Warsaw:20200820T153000
DTSTAMP:20260421T130523
CREATED:20200814T175823Z
LAST-MODIFIED:20200814T175824Z
UID:412-1597932000-1597937400@www.willazpasja.pl
SUMMARY:twórcze popołudnie seniora | zatańczymy?
DESCRIPTION:twórcze popołudnie seniora | zatańczymy\nArtystyczno-integracyjne spotkanie dla Seniorów.\nRuch jest bardzo ważny dla naszego samopoczucia\, a co dopiero taniec. Znamy się już trochę\, więc może dacie zaprosić się do tańca? 🙂 Przecież w rytmie muzyki można się wspaniale zrelaksować\, zintegrować i przyjemnie spędzić czas. Już nie możemy się doczekać!\n\n\nUdział w spotkaniu jest bezpłatny\, jednak ze względu na limit miejsc\, wcześniej trzeba się zapisać. Zapisy przyjmujemy na adres cal@dlatorunia.pl lub pod numerem telefonu 794-687-133. \n\nProjekt finansowany ze środków Gminy Miasta Torunia.
URL:https://www.willazpasja.pl/wydarzenie/tworcze-popoludnie-seniora-zatanczymy/
LOCATION:sala teatralna\, ul. Grunwaldzka 38\, Toruń
CATEGORIES:dla seniorów
ATTACH;FMTTYPE=image/jpeg:https://www.willazpasja.pl/wp-content/uploads/2020/08/gildia-1200x628-1.jpg
END:VEVENT
BEGIN:VEVENT
DTSTART;TZID=Europe/Warsaw:20200813T140000
DTEND;TZID=Europe/Warsaw:20200813T153000
DTSTAMP:20260421T130523
CREATED:20200804T160335Z
LAST-MODIFIED:20200804T160336Z
UID:358-1597327200-1597332600@www.willazpasja.pl
SUMMARY:twórcze popołudnie seniora
DESCRIPTION:twórcze popołudnie seniora\nArtystyczno-integracyjne spotkanie dla Seniorów. Poznajmy się\, by mieć z kim iść na spacer\, wyjść do teatru czy kina\, albo wiedzieć od kogo uzyskać ogrodnicze lub kulinarne porady.\nW przyjaznym gronie wzmocnimy umiejętności komunikacyjne\, poznamy reguły funkcjonowania w grupie i współpracy. Będziemy ćwiczyć pamięć i wykorzystywać czas bez obowiązków zawodowych na realizację pasji i zainteresowań.\n\nUdział w spotkaniu jest bezpłatny\, jednak ze względu na limit miejsc\, wcześniej trzeba się zapisać. Zapisy przyjmujemy na adres cal@dlatorunia.pl lub pod numerem telefonu 794-687-133. \n\nProjekt finansowany ze środków Gminy Miasta Torunia.
URL:https://www.willazpasja.pl/wydarzenie/tworcze-popoludnie-seniora-4/
LOCATION:sala kominkowa
CATEGORIES:dla seniorów
ATTACH;FMTTYPE=image/jpeg:https://www.willazpasja.pl/wp-content/uploads/2020/07/tworcze-popoludnie-seniora-1200x628-1.jpg
ORGANIZER;CN="CAL Willa z pasj%C4%85":MAILTO:cal@dlatorunia.pl
END:VEVENT
BEGIN:VEVENT
DTSTART;TZID=Europe/Warsaw:20200730T140000
DTEND;TZID=Europe/Warsaw:20200730T153000
DTSTAMP:20260421T130523
CREATED:20200728T154033Z
LAST-MODIFIED:20200728T154208Z
UID:292-1596117600-1596123000@www.willazpasja.pl
SUMMARY:twórcze popołudnie seniora 2
DESCRIPTION:twórcze popołudnie seniora\nZajęcia integracyjne dla seniorów\, by się lepiej poznać\, dowiedzieć się kto co lubi\, co jest jego pasją\, co nas łączy\, a z kim możemy porozmawiać o uprawach działkowych. \nNa drugim spotkaniu nadal będziemy się poznawać. Mamy niedosyt wiedzy o sobie. Tym razem zrobimy to w nieco inny sposób\, bowiem opowiedzą o nas przedmioty… Niech każdy przyniesie cenny mu przedmiot – pamiątkę rodzinną\, coś co jest związane z ważnym dla niego wydarzeniem\, miejscem lub osobą. Jakiś element jego przeszłości\, którym chciałby się podzielić. Niech przedmiot przywoła wspomnienia\, którymi wzajemnie się obdarujemy. Na pewno każdy ma choćby zdjęcie\, pamiątkę z przeszłości\, która wzięta do ręki ożywia przeszłość. \n\nUdział jest bezpłatny\, jednak ze względu na limit miejsc\, wcześniej trzeba się zapisać. Zapisy przyjmujemy na adres cal@dlatorunia.pl lub pod numerem telefonu 794-687-133. \nProjekt finansowany ze środków Gminy Miasta Torunia.
URL:https://www.willazpasja.pl/wydarzenie/tworcze-popoludnie-seniora-2/
LOCATION:sala teatralna\, ul. Grunwaldzka 38\, Toruń
CATEGORIES:dla seniorów
ATTACH;FMTTYPE=image/jpeg:https://www.willazpasja.pl/wp-content/uploads/2020/07/tworcze-popoludnie-seniora-1200x628-1.jpg
ORGANIZER;CN="CAL Willa z pasj%C4%85":MAILTO:cal@dlatorunia.pl
END:VEVENT
BEGIN:VEVENT
DTSTART;TZID=Europe/Warsaw:20200723T140000
DTEND;TZID=Europe/Warsaw:20200723T153000
DTSTAMP:20260421T130523
CREATED:20200720T165628Z
LAST-MODIFIED:20200720T165649Z
UID:213-1595512800-1595518200@www.willazpasja.pl
SUMMARY:twórcze popołudnie seniora
DESCRIPTION:twórcze popołudnie seniora\nZajęcia integracyjne dla seniorów\, by się lepiej poznać\, dowiedzieć się kto co lubi\, co jest jego pasją\, co nas łączy\, a z kim możemy porozmawiać o uprawach działkowych? \nPrzez gry i rozmowy poznajemy willową społeczność seniorów z pasją i nawiązujemy relacje. A do tego miło i atrakcyjnie spędzamy czas. \nUdział jest bezpłatny\, jednak ze względu na limit miejsc\, wcześniej trzeba się zapisać. Zapisy przyjmujemy na adres cal@dlatorunia.pl lub pod numerem telefonu 794-687-133. \nProjekt finansowany ze środków Gminy Miasta Torunia.
URL:https://www.willazpasja.pl/wydarzenie/tworcze-popoludnie-seniora/
LOCATION:sala kominkowa
CATEGORIES:dla seniorów
ATTACH;FMTTYPE=image/jpeg:https://www.willazpasja.pl/wp-content/uploads/2020/07/tworcze-popoludnie-seniora1.jpg
ORGANIZER;CN="CAL Willa z pasj%C4%85":MAILTO:cal@dlatorunia.pl
END:VEVENT
END:VCALENDAR