BEGIN:VCALENDAR
VERSION:2.0
PRODID:-//CAL Willa z pasją - ECPv6.15.20//NONSGML v1.0//EN
CALSCALE:GREGORIAN
METHOD:PUBLISH
X-WR-CALNAME:CAL Willa z pasją
X-ORIGINAL-URL:https://www.willazpasja.pl
X-WR-CALDESC:Wydarzenia dla CAL Willa z pasją
REFRESH-INTERVAL;VALUE=DURATION:PT1H
X-Robots-Tag:noindex
X-PUBLISHED-TTL:PT1H
BEGIN:VTIMEZONE
TZID:Europe/Warsaw
BEGIN:DAYLIGHT
TZOFFSETFROM:+0100
TZOFFSETTO:+0200
TZNAME:CEST
DTSTART:20190331T010000
END:DAYLIGHT
BEGIN:STANDARD
TZOFFSETFROM:+0200
TZOFFSETTO:+0100
TZNAME:CET
DTSTART:20191027T010000
END:STANDARD
BEGIN:DAYLIGHT
TZOFFSETFROM:+0100
TZOFFSETTO:+0200
TZNAME:CEST
DTSTART:20200329T010000
END:DAYLIGHT
BEGIN:STANDARD
TZOFFSETFROM:+0200
TZOFFSETTO:+0100
TZNAME:CET
DTSTART:20201025T010000
END:STANDARD
BEGIN:DAYLIGHT
TZOFFSETFROM:+0100
TZOFFSETTO:+0200
TZNAME:CEST
DTSTART:20210328T010000
END:DAYLIGHT
BEGIN:STANDARD
TZOFFSETFROM:+0200
TZOFFSETTO:+0100
TZNAME:CET
DTSTART:20211031T010000
END:STANDARD
END:VTIMEZONE
BEGIN:VEVENT
DTSTART;TZID=Europe/Warsaw:20200916T160000
DTEND;TZID=Europe/Warsaw:20200916T180000
DTSTAMP:20260421T130404
CREATED:20200913T133454Z
LAST-MODIFIED:20200914T083611Z
UID:495-1600272000-1600279200@www.willazpasja.pl
SUMMARY:warsztat artystyczny | decoupage 4
DESCRIPTION:warsztat artystyczny | decoupage\nDecoupage to technika ozdabiania produktów wykonanych z różnego tworzywa – drewna\, szkła\, metalu\, ceramiki czy tkanin za pomocą cienkich kolorowych serwetek. \nZe względu na duże zainteresowanie tym warsztatem ponawiamy go. Proponujemy Ci decoupage dla początkujących. Opowiemy co warto wiedzieć o tej metodzie zdobienia przedmiotów. A podczas warsztatu zrobisz swoją pierwszą dekorację tą techniką. \n\nUdział w spotkaniu jest bezpłatny\, jednak ze względu na limit miejsc\, wcześniej trzeba się zapisać. Zapisy przyjmujemy na adres cal@dlatorunia.pl lub pod numerem telefonu 794-687-133. \n\nProjekt finansowany ze środków Gminy Miasta Torunia.
URL:https://www.willazpasja.pl/wydarzenie/warsztat-artystyczny-decoupage-4/
LOCATION:sala duża\, ul. Grunwaldzka 38\, Toruń\, Poland\, 87-100\, Poland
CATEGORIES:dla dorosłych,dla seniorów
ATTACH;FMTTYPE=image/jpeg:https://www.willazpasja.pl/wp-content/uploads/2020/09/decoupage3_1200x628.jpg
ORGANIZER;CN="CAL Willa z pasj%C4%85":MAILTO:cal@dlatorunia.pl
END:VEVENT
BEGIN:VEVENT
DTSTART;TZID=Europe/Warsaw:20200805T160000
DTEND;TZID=Europe/Warsaw:20200805T180000
DTSTAMP:20260421T130405
CREATED:20200731T124043Z
LAST-MODIFIED:20200801T094712Z
UID:314-1596643200-1596650400@www.willazpasja.pl
SUMMARY:warsztat artystyczny | decoupage 3
DESCRIPTION:warsztat artystyczny | decoupage\nDecoupage to technika ozdabiania produktów wykonanych z różnego tworzywa – drewna\, szkła\, metalu\, ceramiki czy tkanin za pomocą cienkich kolorowych serwetek. \nProponujemy Ci decoupage dla początkujących. Opowiemy co warto wiedzieć o tej metodzie zdobienia przedmiotów. A podczas warsztatu zrobisz swoją pierwszą dekorację tą techniką. \n\nUdział w spotkaniu jest bezpłatny\, jednak ze względu na limit miejsc\, wcześniej trzeba się zapisać. Zapisy przyjmujemy na adres cal@dlatorunia.pl lub pod numerem telefonu 794-687-133. \n\nProjekt finansowany ze środków Gminy Miasta Torunia.
URL:https://www.willazpasja.pl/wydarzenie/warsztat-artystyczny-decoupage-3/
LOCATION:sala duża\, ul. Grunwaldzka 38\, Toruń\, Poland\, 87-100\, Poland
CATEGORIES:dla dorosłych,dla dzieci,dla rodziny
ATTACH;FMTTYPE=image/jpeg:https://www.willazpasja.pl/wp-content/uploads/2020/07/decoupage2_1200x628-1.jpg
ORGANIZER;CN="CAL Willa z pasj%C4%85":MAILTO:cal@dlatorunia.pl
END:VEVENT
BEGIN:VEVENT
DTSTART;TZID=Europe/Warsaw:20200801T100000
DTEND;TZID=Europe/Warsaw:20200801T120000
DTSTAMP:20260421T130405
CREATED:20200728T164831Z
LAST-MODIFIED:20200728T164832Z
UID:297-1596276000-1596283200@www.willazpasja.pl
SUMMARY:warsztat artystyczny | decoupage 2
DESCRIPTION:warsztat artystyczny | decoupage\nDecoupage to technika ozdabiania produktów wykonanych z różnego tworzywa – drewna\, szkła\, metalu\, ceramiki czy tkanin za pomocą cienkich kolorowych serwetek. \nProponujemy Ci decoupage dla początkujących. Opowiemy co warto wiedzieć o tej metodzie zdobienia przedmiotów. A podczas warsztatu zrobisz swoją pierwszą dekorację tą techniką. \n\nUdział jest bezpłatny\, jednak ze względu na limit miejsc\, wcześniej trzeba się zapisać. Zapisy przyjmujemy na adres cal@dlatorunia.pl lub pod numerem telefonu 794-687-133. \nProjekt finansowany ze środków Gminy Miasta Torunia.
URL:https://www.willazpasja.pl/wydarzenie/warsztat-artystyczny-decoupage-2/
LOCATION:sala duża\, ul. Grunwaldzka 38\, Toruń\, Poland\, 87-100\, Poland
CATEGORIES:dla dorosłych,dla dzieci,dla rodziny,dla seniorów
ATTACH;FMTTYPE=image/jpeg:https://www.willazpasja.pl/wp-content/uploads/2020/07/decoupage_1200x628.jpg
ORGANIZER;CN="CAL Willa z pasj%C4%85":MAILTO:cal@dlatorunia.pl
END:VEVENT
BEGIN:VEVENT
DTSTART;TZID=Europe/Warsaw:20200722T160000
DTEND;TZID=Europe/Warsaw:20200722T180000
DTSTAMP:20260421T130405
CREATED:20200716T135644Z
LAST-MODIFIED:20200716T142240Z
UID:190-1595433600-1595440800@www.willazpasja.pl
SUMMARY:warsztat artystyczny | decoupage
DESCRIPTION:Decoupage to technika ozdabiania produktów wykonanych z różnego tworzywa – drewna\, szkła\, metalu\, ceramiki czy tkanin za pomocą cienkich kolorowych serwetek. \nProponujemy Ci decoupage dla początkujących. Opowiemy co warto wiedzieć o tej metodzie zdobienia przedmiotów. A podczas warsztatu zrobisz swoją pierwszą dekorację tą techniką. \nUdział jest bezpłatny\, jednak ze względu na limit miejsc\, wcześniej trzeba się zapisać. Zapisy przyjmujemy na adres cal@dlatorunia.pl lub pod numerem telefonu 794-687-133. \nProjekt finansowany ze środków Gminy Miasta Torunia.
URL:https://www.willazpasja.pl/wydarzenie/warsztat-artystyczny-decoupage/
LOCATION:sala duża\, ul. Grunwaldzka 38\, Toruń\, Poland\, 87-100\, Poland
CATEGORIES:dla dorosłych,dla dzieci,dla rodziny,dla seniorów
ATTACH;FMTTYPE=image/jpeg:https://www.willazpasja.pl/wp-content/uploads/2020/07/decoupage_1200x628.jpg
ORGANIZER;CN="CAL Willa z pasj%C4%85":MAILTO:cal@dlatorunia.pl
END:VEVENT
END:VCALENDAR