BEGIN:VCALENDAR
VERSION:2.0
PRODID:-//CAL Willa z pasją - ECPv6.15.20//NONSGML v1.0//EN
CALSCALE:GREGORIAN
METHOD:PUBLISH
X-ORIGINAL-URL:https://www.willazpasja.pl
X-WR-CALDESC:Wydarzenia dla CAL Willa z pasją
REFRESH-INTERVAL;VALUE=DURATION:PT1H
X-Robots-Tag:noindex
X-PUBLISHED-TTL:PT1H
BEGIN:VTIMEZONE
TZID:Europe/Warsaw
BEGIN:DAYLIGHT
TZOFFSETFROM:+0100
TZOFFSETTO:+0200
TZNAME:CEST
DTSTART:20190331T010000
END:DAYLIGHT
BEGIN:STANDARD
TZOFFSETFROM:+0200
TZOFFSETTO:+0100
TZNAME:CET
DTSTART:20191027T010000
END:STANDARD
BEGIN:DAYLIGHT
TZOFFSETFROM:+0100
TZOFFSETTO:+0200
TZNAME:CEST
DTSTART:20200329T010000
END:DAYLIGHT
BEGIN:STANDARD
TZOFFSETFROM:+0200
TZOFFSETTO:+0100
TZNAME:CET
DTSTART:20201025T010000
END:STANDARD
BEGIN:DAYLIGHT
TZOFFSETFROM:+0100
TZOFFSETTO:+0200
TZNAME:CEST
DTSTART:20210328T010000
END:DAYLIGHT
BEGIN:STANDARD
TZOFFSETFROM:+0200
TZOFFSETTO:+0100
TZNAME:CET
DTSTART:20211031T010000
END:STANDARD
END:VTIMEZONE
BEGIN:VEVENT
DTSTART;TZID=Europe/Warsaw:20200903T160000
DTEND;TZID=Europe/Warsaw:20200903T180000
DTSTAMP:20260421T151744
CREATED:20200901T133827Z
LAST-MODIFIED:20200908T142526Z
UID:457-1599148800-1599156000@www.willazpasja.pl
SUMMARY:czwartek z rodziną | kto pierwszy na mecie
DESCRIPTION:czwartek z rodziną | kto pierwszy na mecie\nZabawę w kapsle bardzo dobrze znają rodzice. Jednak czy dzięki tej wiedzy pierwsi będą na mecie? Tego nie wiadomo\, bo tor z przeszkodami zbudujemy wspólnie. Zakręty\, mosty\, przeszkody\, ukosy… Tylko dobrze przygotowana taktyka pokonania toru może dać zwycięstwo! \nOczywiście kapsel też musi dobrze prezentować się na torze! Czym wyróżni się Twój? Co da mu ponadprzeciętną moc? \nJuż nie możemy się doczekać tej rywalizacji 🙂 \n\nUdział w spotkaniu jest bezpłatny\, jednak ze względu na limit miejsc\, wcześniej trzeba się zapisać. Zapisy przyjmujemy na adres cal@dlatorunia.pl lub pod numerem telefonu 794-687-133. \n\nProjekt finansowany ze środków Gminy Miasta Torunia.
URL:https://www.willazpasja.pl/wydarzenie/czwartek-z-rodzina-kto-pierwszy-na-mecie/
LOCATION:sala duża\, ul. Grunwaldzka 38\, Toruń\, Poland\, 87-100\, Poland
CATEGORIES:dla dorosłych,dla dzieci,dla rodziny
ATTACH;FMTTYPE=image/jpeg:https://www.willazpasja.pl/wp-content/uploads/2020/09/czwartek-z-rodzina-tor-kapslowy_1200x628.jpg
ORGANIZER;CN="CAL Willa z pasj%C4%85":MAILTO:cal@dlatorunia.pl
END:VEVENT
BEGIN:VEVENT
DTSTART;TZID=Europe/Warsaw:20200903T090000
DTEND;TZID=Europe/Warsaw:20200903T100000
DTSTAMP:20260421T151744
CREATED:20200901T121132Z
LAST-MODIFIED:20200908T142552Z
UID:453-1599123600-1599127200@www.willazpasja.pl
SUMMARY:rodzinna uczta zmysłów | sznurkolandia
DESCRIPTION:rodzinna uczta zmysłów | sznurkolandia\nZajęcia badawcze i sensoryczne kierowane do dzieci w wieku 3-6 lat i ich opiekunów. \nSznurek i włóczka to bardzo ciekawy materiał twórczy. Barwny i plastyczny. Na naszych zajęciach dostanie nowe życie.  Może będzie kotkiem\, ciężarówką\, a może kosmosem. Ciekawi jesteśmy gdzie poniesie nas wyobraźnia. Jak będzie nasza sznurkolandia? \nZajęcia mogą stać się również inspiracją dla rodziców\, którzy chcą zrobić coś kreatywnego i rozwijającego ze swoimi pociechami.\n\n\n\n\nUdział jest bezpłatny\, jednak ze względu na limit miejsc\, wcześniej trzeba się zapisać. Zapisy przyjmujemy na adres cal@dlatorunia.pl lub pod numerem telefonu 794-687-133. \nProjekt finansowany ze środków Gminy Miasta Torunia.
URL:https://www.willazpasja.pl/wydarzenie/rodzinna-uczta-zmyslow-sznurkolandia/
LOCATION:sala teatralna\, ul. Grunwaldzka 38\, Toruń
CATEGORIES:dla dzieci
ATTACH;FMTTYPE=image/jpeg:https://www.willazpasja.pl/wp-content/uploads/2020/09/rodz.-uczta-zmysl.-sznurkolandia_1200x628.jpg
ORGANIZER;CN="CAL Willa z pasj%C4%85":MAILTO:cal@dlatorunia.pl
END:VEVENT
BEGIN:VEVENT
DTSTART;TZID=Europe/Warsaw:20200829T110000
DTEND;TZID=Europe/Warsaw:20200829T140000
DTSTAMP:20260421T151744
CREATED:20200821T074306Z
LAST-MODIFIED:20200821T080917Z
UID:420-1598698800-1598709600@www.willazpasja.pl
SUMMARY:rodzinna impreza plenerowa
DESCRIPTION:rodzinna impreza plenerowa | ogród pasji i przyjemności\nCzas świętować ostatnie dni wakacji. Nasz ogród kryje wiele zakamarków\, a w nich atrakcje dla całych rodzin. \nstrefa relaksu\nNa leżaku lub kocyku\, przy dźwiękach muzyki pozwól się zrelaksować. Gdy ty będziesz odpoczywać w zaciszu\, twoje dziecko będzie bawić się w najlepsze z innymi dziećmi. \nstrefa romantyczna \nLato dzieli się z nami darami natury. Wykorzystamy je by upleść wianki\, pachnące i kolorowe. Ozdobione wstążkami\, ubarwione kwiatami. \nstrefa dobrego smaku\ntu możesz rozpieścić swoje kubki smakowe delektując się dobrą kawą i przegryzając słodkość. Uroku tej chwili doda szelest ogrodu i cień jego drzew. \nstrefa foto\nPiękne chwile trzeba uwieczniać\, by można było cieszyć się wspomnieniami. Zatem zrób sobie i bliskim zdjęcie. Może być ze śmieszną miną\, w uścisku albo całkiem na poważnie. \nstrefa dobrych myśli\nPozytywne myślenie ma wielką moc\, dlatego wykorzystamy jego siłę. Bo dobry nastrój trzeba pielęgnować\, a szczęściu warto pomagać. \nzakątek huncwotów\nWołają na nich urwisy\, psotnicy\, nicponie\, łobuziaki\, gagatki. A jak wygląda huncwot? Ha! to wiesz tylko ty\, dlatego tylko ty możesz stworzyć swojego fikuśnego i żartobliwego kompana. \npiwniczne zagadki\nCzas przygotować umysł do pracy\, by po powrocie do szkoły znów pracował na najwyższych obrotach. Czy nasze zagadki okażą się trudne? Trudno powiedzieć 🙂 Mamy nadzieję\, że odkrywanie rozwiązania sprawi wam wiele przyjemności. \n\nUdział w pikniku jest bezpłatny\, jednak ze względu na limit miejsc\, wcześniej trzeba się zapisać. Zapisy przyjmujemy na adres cal@dlatorunia.pl lub pod numerem telefonu 794-687-133. \n\nProjekt finansowany ze środków Gminy Miasta Torunia.
URL:https://www.willazpasja.pl/wydarzenie/rodzinna-impreza-plenerowa/
LOCATION:ogród
CATEGORIES:dla dorosłych,dla dzieci,dla rodziny,dla seniorów
ATTACH;FMTTYPE=image/jpeg:https://www.willazpasja.pl/wp-content/uploads/2020/08/piknik-20200829-wydarzenie-1200x628-1.jpg
ORGANIZER;CN="CAL Willa z pasj%C4%85":MAILTO:cal@dlatorunia.pl
END:VEVENT
BEGIN:VEVENT
DTSTART;TZID=Europe/Warsaw:20200827T100000
DTEND;TZID=Europe/Warsaw:20200827T110000
DTSTAMP:20260421T151744
CREATED:20200822T081548Z
LAST-MODIFIED:20200822T081548Z
UID:426-1598522400-1598526000@www.willazpasja.pl
SUMMARY:rodzinna uczta zmysłów | w krainie lodu
DESCRIPTION:rodzinna uczta zmysłów | w krainie lodu\nZajęcia badawcze i sensoryczne kierowane do dzieci w wieku 3-6 lat i ich opiekunów. \nLód jest fascynujący! Na ostatnim wakacyjnym spotkaniu\, nasi milusińscy zamienią się w archeologów i odkryją skarby schowane… w lodzie. Za oknem mamy gorące lato\, więc odkrywanie zamrożonych skarbów będzie niezwykle atrakcyjne\, a lodowa zabawa wspaniale umili czas. \nZajęcia mogą stać się również inspiracją dla rodziców\, którzy chcą zrobić coś kreatywnego i rozwijającego ze swoimi pociechami.\n\n\n\n\nUdział jest bezpłatny\, jednak ze względu na limit miejsc\, wcześniej trzeba się zapisać. Zapisy przyjmujemy na adres cal@dlatorunia.pl lub pod numerem telefonu 794-687-133. \nProjekt finansowany ze środków Gminy Miasta Torunia.
URL:https://www.willazpasja.pl/wydarzenie/rodzinna-uczta-zmyslow-w-krainie-lodu/
LOCATION:ogród
CATEGORIES:dla dzieci,dla rodziny
ATTACH;FMTTYPE=image/jpeg:https://www.willazpasja.pl/wp-content/uploads/2020/08/rodzinna-uczta-zmyslow-w-krainie-lodu-wydarzenie-1200x628-1.jpg
ORGANIZER;CN="CAL Willa z pasj%C4%85":MAILTO:cal@dlatorunia.pl
END:VEVENT
BEGIN:VEVENT
DTSTART;TZID=Europe/Warsaw:20200813T100000
DTEND;TZID=Europe/Warsaw:20200813T110000
DTSTAMP:20260421T151744
CREATED:20200804T121652Z
LAST-MODIFIED:20200804T121652Z
UID:349-1597312800-1597316400@www.willazpasja.pl
SUMMARY:rodzinna uczta zmysłów | mali dyrygenci
DESCRIPTION:rodzinna uczta zmysłów | mali dyrygenci\nZajęcia muzyczno-malarskie kierowane do dzieci w wieku 3-6 lat i ich opiekunów. \nJak to jest być dyrygentem? Czy to trudna sztuka? Szczególnie kiedy trzeba dyrygować farbami. Sprawdźmy! Podczas zajęć będziemy tworzyć coś z niczego\, poznawać świat w niebanalny sposób i świetnie się bawić! \nZajęcia mogą stać się również inspiracją dla rodziców\, którzy chcą zrobić coś kreatywnego i rozwijającego ze swoimi pociechami.\n\n\n\n\nUdział jest bezpłatny\, jednak ze względu na limit miejsc\, wcześniej trzeba się zapisać. Zapisy przyjmujemy na adres cal@dlatorunia.pl lub pod numerem telefonu 794-687-133. \nProjekt finansowany ze środków Gminy Miasta Torunia.
URL:https://www.willazpasja.pl/wydarzenie/rodzinna-uczta-zmyslow-mali-dyrygenci/
LOCATION:sala teatralna\, ul. Grunwaldzka 38\, Toruń
CATEGORIES:dla dzieci,dla rodziny
ATTACH;FMTTYPE=image/jpeg:https://www.willazpasja.pl/wp-content/uploads/2020/08/nutki_1200x628.jpg
ORGANIZER;CN="CAL Willa z pasj%C4%85":MAILTO:cal@dlatorunia.pl
END:VEVENT
BEGIN:VEVENT
DTSTART;TZID=Europe/Warsaw:20200806T100000
DTEND;TZID=Europe/Warsaw:20200806T110000
DTSTAMP:20260421T151744
CREATED:20200804T084311Z
LAST-MODIFIED:20200804T121720Z
UID:332-1596708000-1596711600@www.willazpasja.pl
SUMMARY:rodzinna uczta zmysłów | na ryby
DESCRIPTION:rodzinna uczta zmysłów | na ryby\nZajęcia kierowane do dzieci w wieku 3-6 lat i ich opiekunów. Podczas zajęć będziemy tworzyć coś z niczego\, poznawać świat w niebanalny sposób i świetnie się bawić! Tym razem wykorzystamy letnie przedpołudnie do zabaw w ogrodzie i wspólnie wybierzemy się na kreatywny połów. Może oprócz ryb uda nam się złowić jakieś skarby? \nZajęcia mogą stać się również inspiracją dla rodziców\, którzy chcą zrobić coś kreatywnego i rozwijającego ze swoimi pociechami.\n\n\n\n\nUdział jest bezpłatny\, jednak ze względu na limit miejsc\, wcześniej trzeba się zapisać. Zapisy przyjmujemy na adres cal@dlatorunia.pl lub pod numerem telefonu 794-687-133. \nProjekt finansowany ze środków Gminy Miasta Torunia.
URL:https://www.willazpasja.pl/wydarzenie/rodzinna-uczta-zmyslow-na-ryby/
LOCATION:ogród
CATEGORIES:dla dzieci,dla rodziny
ATTACH;FMTTYPE=image/jpeg:https://www.willazpasja.pl/wp-content/uploads/2020/08/ryby_1200x628.jpg
ORGANIZER;CN="CAL Willa z pasj%C4%85":MAILTO:cal@dlatorunia.pl
END:VEVENT
BEGIN:VEVENT
DTSTART;TZID=Europe/Warsaw:20200730T100000
DTEND;TZID=Europe/Warsaw:20200730T110000
DTSTAMP:20260421T151744
CREATED:20200728T094917Z
LAST-MODIFIED:20200728T151553Z
UID:279-1596103200-1596106800@www.willazpasja.pl
SUMMARY:rodzinna uczta zmysłów | piasek
DESCRIPTION:rodzinna uczta zmysłów | piasek\nw czwartek na rodzinnym spotkaniu będą „zabawy z piaskownicy”. Tradycyjnie będziemy brudzić – siebie i przestrzeń dookoła. Będziemy tworzyć coś z niczego\, poznawać świat w niebanalny sposób i świetnie się bawić! Razem zrobimy piasek kinetyczny\, a z niego różniste budowle. Sami jesteśmy ciekawi co powstanie. \nZajęcia mogą stać się również inspiracją dla rodziców\, którzy chcą zrobić coś kreatywnego i rozwijającego ze swoimi pociechami.\n\n\n\n\nUdział jest bezpłatny\, jednak ze względu na limit miejsc\, wcześniej trzeba się zapisać. Zapisy przyjmujemy na adres cal@dlatorunia.pl lub pod numerem telefonu 794-687-133. \nProjekt finansowany ze środków Gminy Miasta Torunia.
URL:https://www.willazpasja.pl/wydarzenie/rodzinna-uczta-zmyslow-piasek/
LOCATION:ogród
CATEGORIES:dla dzieci,dla rodziny
ATTACH;FMTTYPE=image/jpeg:https://www.willazpasja.pl/wp-content/uploads/2020/07/rodzinna-uczta-zmyslow-piasek-1200x628-1.jpg
ORGANIZER;CN="CAL Willa z pasj%C4%85":MAILTO:cal@dlatorunia.pl
END:VEVENT
BEGIN:VEVENT
DTSTART;TZID=Europe/Warsaw:20200723T100000
DTEND;TZID=Europe/Warsaw:20200723T110000
DTSTAMP:20260421T151744
CREATED:20200719T081603Z
LAST-MODIFIED:20200719T082708Z
UID:199-1595498400-1595502000@www.willazpasja.pl
SUMMARY:rodzinna uczta dla zmysłów | lody
DESCRIPTION:rodzinna uczta dla zmysłów | robimy sobie lody!\nZajęcia dla dzieci w wieku 3-6 lat wraz z rodzicami / opiekunami. \n‚Rodzinna uczta dla zmysłów’ to czas poświęcony na zabawy sensoryczne\, poszerzające świat doznań i wyobraźnię dzieci. To doświadczanie zadań plastycznych i stymulowanie wszystkich zmysłów z wykorzystaniem produktów bezpiecznych dla dzieci. Maluchy mogą twórczo nabałaganić i się pobrudzić poprzez malowanie\, lepienie\, mieszanie\, ugniatanie\, smakowanie czy wąchanie… Warto zabrać strój na zmianę\, bo i on może zabrudzić się podczas wspólnych działań. \nZajęcia mogą stać się również inspiracją dla rodziców\, którzy chcą zrobić coś kreatywnego i rozwijającego ze swoimi pociechami.\n\n\nUdział jest bezpłatny\, jednak ze względu na limit miejsc\, wcześniej trzeba się zapisać. Zapisy przyjmujemy na adres cal@dlatorunia.pl lub pod numerem telefonu 794-687-133. \nProjekt finansowany ze środków Gminy Miasta Torunia.
URL:https://www.willazpasja.pl/wydarzenie/rodzinna-uczta-dla-zmyslow-lody/
LOCATION:ogród
CATEGORIES:dla dzieci,dla rodziny
ATTACH;FMTTYPE=image/jpeg:https://www.willazpasja.pl/wp-content/uploads/2020/07/rodzinna-uczta-zmysłów2_1200x628.jpg
ORGANIZER;CN="CAL Willa z pasj%C4%85":MAILTO:cal@dlatorunia.pl
END:VEVENT
END:VCALENDAR