BEGIN:VCALENDAR
VERSION:2.0
PRODID:-//CAL Willa z pasją - ECPv6.15.20//NONSGML v1.0//EN
CALSCALE:GREGORIAN
METHOD:PUBLISH
X-WR-CALNAME:CAL Willa z pasją
X-ORIGINAL-URL:https://www.willazpasja.pl
X-WR-CALDESC:Wydarzenia dla CAL Willa z pasją
REFRESH-INTERVAL;VALUE=DURATION:PT1H
X-Robots-Tag:noindex
X-PUBLISHED-TTL:PT1H
BEGIN:VTIMEZONE
TZID:Europe/Warsaw
BEGIN:DAYLIGHT
TZOFFSETFROM:+0100
TZOFFSETTO:+0200
TZNAME:CEST
DTSTART:20190331T010000
END:DAYLIGHT
BEGIN:STANDARD
TZOFFSETFROM:+0200
TZOFFSETTO:+0100
TZNAME:CET
DTSTART:20191027T010000
END:STANDARD
BEGIN:DAYLIGHT
TZOFFSETFROM:+0100
TZOFFSETTO:+0200
TZNAME:CEST
DTSTART:20200329T010000
END:DAYLIGHT
BEGIN:STANDARD
TZOFFSETFROM:+0200
TZOFFSETTO:+0100
TZNAME:CET
DTSTART:20201025T010000
END:STANDARD
BEGIN:DAYLIGHT
TZOFFSETFROM:+0100
TZOFFSETTO:+0200
TZNAME:CEST
DTSTART:20210328T010000
END:DAYLIGHT
BEGIN:STANDARD
TZOFFSETFROM:+0200
TZOFFSETTO:+0100
TZNAME:CET
DTSTART:20211031T010000
END:STANDARD
END:VTIMEZONE
BEGIN:VEVENT
DTSTART;TZID=Europe/Warsaw:20200718T120000
DTEND;TZID=Europe/Warsaw:20200718T140000
DTSTAMP:20260421T194001
CREATED:20200710T094545Z
LAST-MODIFIED:20200710T094545Z
UID:155-1595073600-1595080800@www.willazpasja.pl
SUMMARY:warsztat artystyczny | łapacze snów gr II
DESCRIPTION:łapacze snów |warsztat artystyczny\nWykonaj z nami łapacz snów – niezwykle piękną ozdobę sypialni\, tarasu\, balkonu… Łapacz snów jest bardzo efektownym drobiazgiem\, który zachwyca mnogością kolorów\, delikatnością piórek i misterną siecią sznurka. Idealny na prezent! \nUdział jest bezpłatny\, jednak ze względu na limit miejsc\, wcześniej trzeba się zapisać. Zapisy przyjmujemy na adres cal@dlatorunia.pl lub pod numerem telefonu 794-687-133. \nProjekt finansowany ze środków Gminy Miasta Torunia.
URL:https://www.willazpasja.pl/wydarzenie/warsztat-artystyczny-lapacze-snow-gr-2/
LOCATION:sala duża\, ul. Grunwaldzka 38\, Toruń\, Poland\, 87-100\, Poland
CATEGORIES:dla dzieci,dla rodziny,dla seniorów
ORGANIZER;CN="CAL Willa z pasj%C4%85":MAILTO:cal@dlatorunia.pl
END:VEVENT
BEGIN:VEVENT
DTSTART;TZID=Europe/Warsaw:20200718T100000
DTEND;TZID=Europe/Warsaw:20200718T120000
DTSTAMP:20260421T194001
CREATED:20200710T094115Z
LAST-MODIFIED:20200710T105653Z
UID:153-1595066400-1595073600@www.willazpasja.pl
SUMMARY:warsztat artystyczny | łapacze snów gr. I
DESCRIPTION:łapacze snów | warsztat artystyczny\nWykonaj z nami niezwykle piękną ozdobę sypialni\, tarasu\, balkonu… Łapacz snów jest bardzo efektownym drobiazgiem\, który zachwyca mnogością kolorów\, delikatnością piórek i misterną siecią sznurka. Idealny na prezent! \nUdział jest bezpłatny\, jednak ze względu na limit miejsc\, wcześniej trzeba się zapisać. Zapisy przyjmujemy na adres cal@dlatorunia.pl lub pod numerem telefonu 794-687-133. \nProjekt finansowany ze środków Gminy Miasta Torunia.
URL:https://www.willazpasja.pl/wydarzenie/warsztat-artystyczny-lapacze-snow-gr-i/
LOCATION:sala duża\, ul. Grunwaldzka 38\, Toruń\, Poland\, 87-100\, Poland
CATEGORIES:dla dzieci,dla rodziny,dla seniorów
ATTACH;FMTTYPE=image/jpeg:https://www.willazpasja.pl/wp-content/uploads/2020/07/Łapacze-snów-1200x628-1.jpg
ORGANIZER;CN="CAL Willa z pasj%C4%85":MAILTO:cal@dlatorunia.pl
END:VEVENT
BEGIN:VEVENT
DTSTART;TZID=Europe/Warsaw:20200717T100000
DTEND;TZID=Europe/Warsaw:20200717T120000
DTSTAMP:20260421T194001
CREATED:20200713T080314Z
LAST-MODIFIED:20200715T102157Z
UID:175-1594980000-1594987200@www.willazpasja.pl
SUMMARY:spotkanie z seniorami | naturalne kosmetyki cz. 2
DESCRIPTION:spotkanie z seniorami | naturalne kosmetyki | dezodorant\nJeżeli jesteś zwolenniczką naturalnych rozwiązań dla zdrowia i urody to pewnie spotkałaś się z problemem zakupu przyjaznego dezodorantu. W sklepach trudno znaleźć ekologiczne i naturalne dezodoranty. Większość dezodorantów i antyperspirantów drogeryjnych zawiera związek z aluminium. Jest on posądzany o szkodliwy wpływ na nasz organizm. Kolejną sprawą jest fakt\, że powoduje on przebarwiania ubrań pod pachami\, zwłaszcza białych. \nNa naszym spotkaniu chcemy pokazać Ci\, że dezodoranty z naturalnych składników są równie skuteczne jak te sklepowe. Dodatkowym ich atutem jest to\, że bardzo łatwo je zrobić i co najważniejsze są całkowicie naturalne\, bez zbędnych polepszaczy i niewiadomego pochodzenia dodatków. \nSpotkanie poprowadzi Ola Kamycka z 4ES Non Profit Sp. z o.o.\nOla ma wieloletnie doświadczenie w prowadzeniu warsztatów rękodzielniczych. Jest zaangażowana w wiele projektów społecznych na terenie Torunia. \nUdział jest bezpłatny\, jednak ze względu na limit miejsc\, wcześniej trzeba się zapisać. Zapisy przyjmujemy na adres cal@dlatorunia.pl lub pod numerem telefonu 794-687-133. \nProjekt finansowany ze środków Gminy Miasta Torunia.
URL:https://www.willazpasja.pl/wydarzenie/spotkanie-z-seniorami-naturalne-kosmetyki-cz-2/
LOCATION:kuchnia
CATEGORIES:dla seniorów
ATTACH;FMTTYPE=image/jpeg:https://www.willazpasja.pl/wp-content/uploads/2020/07/naturalne-kosmetyki_1200x628.jpg
ORGANIZER;CN="CAL Willa z pasj%C4%85":MAILTO:cal@dlatorunia.pl
END:VEVENT
BEGIN:VEVENT
DTSTART;TZID=Europe/Warsaw:20200716T120000
DTEND;TZID=Europe/Warsaw:20200716T133000
DTSTAMP:20260421T194001
CREATED:20200712T180427Z
LAST-MODIFIED:20200719T101317Z
UID:171-1594900800-1594906200@www.willazpasja.pl
SUMMARY:letnie laboratorium teatralne
DESCRIPTION:letnie laboratorium teatralne\nWarsztaty teatralne dla dzieci w wieku 7-12 lat. \n„Letnie laboratorium teatralne”\, to wakacyjna propozycja dla dzieci\, które chciałyby doświadczyć eksperymentów z różnymi formami teatru\, poznać teatr od podszewki\, wejść w rolę reżysera\, scenografa\, aktora oraz poznać pozostałe teatralne zawody. Świetna zabawa z wyobraźnią gwarantowana! \nUdział jest bezpłatny\, jednak ze względu na limit miejsc\, wcześniej trzeba się zapisać. Zapisy przyjmujemy na adres cal@dlatorunia.pl lub pod numerem telefonu 794-687-133. \nProjekt finansowany ze środków Gminy Miasta Torunia.
URL:https://www.willazpasja.pl/wydarzenie/letnie-laboratorium-teatralne/
LOCATION:sala teatralna\, ul. Grunwaldzka 38\, Toruń
CATEGORIES:dla dzieci,dla rodziny
ATTACH;FMTTYPE=image/jpeg:https://www.willazpasja.pl/wp-content/uploads/2020/07/teatrzyk_1200x628.jpg
ORGANIZER;CN="CAL Willa z pasj%C4%85":MAILTO:cal@dlatorunia.pl
END:VEVENT
BEGIN:VEVENT
DTSTART;TZID=Europe/Warsaw:20200716T100000
DTEND;TZID=Europe/Warsaw:20200716T110000
DTSTAMP:20260421T194001
CREATED:20200712T175227Z
LAST-MODIFIED:20200712T180518Z
UID:166-1594893600-1594897200@www.willazpasja.pl
SUMMARY:rodzinna uczta dla zmysłów | morskie opowieści
DESCRIPTION:rodzinna uczta dla zmysłów | morskie opowieści\nZajęcia dla dzieci w wieku 3-6 lat wraz z rodzicami / opiekunami. \n'Rodzinna uczta dla zmysłów’ to czas poświęcony na zabawy sensoryczne\, poszerzające świat doznań i wyobraźnię dzieci. To doświadczanie zadań plastycznych i stymulowanie wszystkich zmysłów z wykorzystaniem produktów bezpiecznych dla dzieci. Można brudzić i kreatywnie eksperymentować bez martwienia się o sprzątanie domu. Warto zabrać strój na zmianę\, bo i on może zabrudzić się podczas wspólnych działań. \nZajęcia mogą stać się również inspiracją dla rodziców\, którzy chcą zrobić coś kreatywnego i rozwijającego ze swoimi pociechami.\n\n\nUdział jest bezpłatny\, jednak ze względu na limit miejsc\, wcześniej trzeba się zapisać. Zapisy przyjmujemy na adres cal@dlatorunia.pl lub pod numerem telefonu 794-687-133. \nProjekt finansowany ze środków Gminy Miasta Torunia.
URL:https://www.willazpasja.pl/wydarzenie/rodzinna-uczta-dla-zmyslow-morskie-opowiesci/
LOCATION:ogród
CATEGORIES:dla dzieci,dla rodziny
ATTACH;FMTTYPE=image/jpeg:https://www.willazpasja.pl/wp-content/uploads/2020/07/sensoplastyka_1200x628.jpg
ORGANIZER;CN="CAL Willa z pasj%C4%85":MAILTO:cal@dlatorunia.pl
END:VEVENT
BEGIN:VEVENT
DTSTART;TZID=Europe/Warsaw:20200715T160000
DTEND;TZID=Europe/Warsaw:20200715T180000
DTSTAMP:20260421T194001
CREATED:20200710T091950Z
LAST-MODIFIED:20200716T150127Z
UID:150-1594828800-1594836000@www.willazpasja.pl
SUMMARY:warsztat artystyczny | string art
DESCRIPTION:warsztat artystyczny | string art\nString art to technika wyplatania różnych obrazków z kolorowej włóczki\, muliny lub nici na drewnianych deseczkach. Kontury wzorów nanosi się na deskę\, a następnie w punktach załamania linii wbija się gwoździe. Tak powstały stelaż oplatamy włóczką. Dzięki tej technice możemy w łatwy sposób wykonać niezwykle unikalne ozdoby do domu\, biura lub po prostu zrobić komuś oryginalny i spersonalizowany prezent od serca. \nUdział jest bezpłatny\, jednak ze względu na limit miejsc\, wcześniej trzeba się zapisać. Zapisy przyjmujemy na adres cal@dlatorunia.pl lub pod numerem telefonu 794-687-133. \nProjekt finansowany ze środków Gminy Miasta Torunia.
URL:https://www.willazpasja.pl/wydarzenie/warsztat-artystyczny-string-art/
LOCATION:sala duża\, ul. Grunwaldzka 38\, Toruń\, Poland\, 87-100\, Poland
CATEGORIES:dla dzieci,dla rodziny,dla seniorów
ATTACH;FMTTYPE=image/jpeg:https://www.willazpasja.pl/wp-content/uploads/2020/07/string_art_1200x628.jpg
ORGANIZER;CN="CAL Willa z pasj%C4%85":MAILTO:cal@dlatorunia.pl
END:VEVENT
BEGIN:VEVENT
DTSTART;TZID=Europe/Warsaw:20200715T150000
DTEND;TZID=Europe/Warsaw:20200715T180000
DTSTAMP:20260421T194001
CREATED:20200708T204514Z
LAST-MODIFIED:20200710T082535Z
UID:128-1594825200-1594836000@www.willazpasja.pl
SUMMARY:konsultacje społeczne
DESCRIPTION:Centrum Aktywności Lokalnej 'Willa z pasją’ to miejsce szczególnie dedykowane mieszkańcom Torunia. Tu torunianie mogą rozwijać pasje i zainteresowania\, realizować swoje pomysły i  wspólnie spędzać czas z sąsiadami. \nWspólnie z mieszkańcami chcemy zastanowić się\, jaka oferta powinna być adresowana do przyszłych użytkowników CALu Willi z pasją przy ul. Grunwaldzkiej 38. Dlatego jeśli chcesz mieć swój udział w tworzeniu CAL „Willa z pasją” przyjdź na spotkanie\, na którym wysłuchamy pomysłów na CAL przy Grunwaldzkiej. \nWAŻNE: Z uwagi na zagrożenie epidemiczne  należy zgłosić swój udział w wydarzeniu. Formularz zgłoszeniowy na spotkanie 15 lipca \nZapraszamy także do konsultacji drogą elektroniczną. Napisz do nas swoje propozycje i uwagi na adres: konsultacje@um.torun.pl. \nTerminarz konsultacji: \n\n    22 czerwca 2020 r. – rozpoczęcie konsultacji społecznych\n    27 czerwca 2020 r. – dzień otwarty w CAL przy ul. Grunwaldzkiej 38  (obowiązują wcześniejsze zapisy)\n    15 lipca 2020 r. – spotkanie z mieszkańcami w CAL przy ul. Grunwaldzkiej 38 (obowiązują wcześniejsze zapisy)\n    22 czerwca  – 30 lipca  2020 r. – zbieranie uwag drogą elektroniczną\n    30 lipca 2020 r. – zakończenie konsultacji\n\nKonsultacje społeczne prowadzi Wydział Komunikacji Społecznej i Informacji Urzędu Miasta Torunia we współpracy ze Stowarzyszeniem Lokalna Grupa Działania „Dla Miasta Torunia”.
URL:https://www.willazpasja.pl/wydarzenie/konsultacje-spoleczne/
LOCATION:sala teatralna\, ul. Grunwaldzka 38\, Toruń
CATEGORIES:dla rodziny,dla seniorów
ATTACH;FMTTYPE=image/jpeg:https://www.willazpasja.pl/wp-content/uploads/2020/07/konsultacje_1200x628.jpg
ORGANIZER;CN="CAL Willa z pasj%C4%85":MAILTO:cal@dlatorunia.pl
END:VEVENT
BEGIN:VEVENT
DTSTART;TZID=Europe/Warsaw:20200715T100000
DTEND;TZID=Europe/Warsaw:20200715T110000
DTSTAMP:20260421T194001
CREATED:20200710T110719Z
LAST-MODIFIED:20200710T110719Z
UID:160-1594807200-1594810800@www.willazpasja.pl
SUMMARY:postaw się | gimnastyka
DESCRIPTION:postaw się | gimnastyka\nGimnastyka to dobry sposób na poradzenie sobie z wadami postawy\, przede wszystkim u dzieci i młodzieży\, ale także u osób dorosłych. Ćwiczenia z zakresu gimnastyki korekcyjnej polecamy osobom\, u których stwierdzono wady postawy lub tendencję do ich powstawania. \nUdział jest bezpłatny\, jednak ze względu na limit miejsc\, wcześniej trzeba się zapisać. Zapisy przyjmujemy na adres cal@dlatorunia.pl lub pod numerem telefonu 794-687-133. \nProjekt finansowany ze środków Gminy Miasta Torunia.
URL:https://www.willazpasja.pl/wydarzenie/postaw-sie-gimnastyka/
LOCATION:sala teatralna\, ul. Grunwaldzka 38\, Toruń
CATEGORIES:dla dorosłych,dla seniorów
ATTACH;FMTTYPE=image/jpeg:https://www.willazpasja.pl/wp-content/uploads/2020/07/gimnastyka_1200x628.jpg
ORGANIZER;CN="CAL Willa z pasj%C4%85":MAILTO:cal@dlatorunia.pl
END:VEVENT
BEGIN:VEVENT
DTSTART;TZID=Europe/Warsaw:20200714T170000
DTEND;TZID=Europe/Warsaw:20200714T180000
DTSTAMP:20260421T194001
CREATED:20200710T112035Z
LAST-MODIFIED:20200710T112554Z
UID:163-1594746000-1594749600@www.willazpasja.pl
SUMMARY:zumba
DESCRIPTION:zumba\nMuzyka\, taniec\, rytm i ruch! Czyli kompletny program treningowy\, zawierający wszystkie elementy fitnessu: cardio\, pracę mięśni\, równowagę i gibkość. Zumba pozytywnie wpływa na ciało i umysł\, ponieważ dotleniają organizm\, zapobiegają schorzeniom układu krążenia i obniżają poziom stresu. Uwolnij pozytywna energię w rytmie zumby! \nUdział jest bezpłatny\, jednak ze względu na limit miejsc\, wcześniej trzeba się zapisać. Zapisy przyjmujemy na adres cal@dlatorunia.pl lub pod numerem telefonu 794-687-133. \nProjekt finansowany ze środków Gminy Miasta Torunia.
URL:https://www.willazpasja.pl/wydarzenie/zumba/
LOCATION:sala duża\, ul. Grunwaldzka 38\, Toruń\, Poland\, 87-100\, Poland
CATEGORIES:dla dorosłych,dla rodziny
ATTACH;FMTTYPE=image/jpeg:https://www.willazpasja.pl/wp-content/uploads/2020/07/Zumba-z-mama_1200x628.jpg
ORGANIZER;CN="CAL Willa z pasj%C4%85":MAILTO:cal@dlatorunia.pl
END:VEVENT
BEGIN:VEVENT
DTSTART;TZID=Europe/Warsaw:20200714T113000
DTEND;TZID=Europe/Warsaw:20200714T123000
DTSTAMP:20260421T194001
CREATED:20200708T190051Z
LAST-MODIFIED:20200710T081058Z
UID:126-1594726200-1594729800@www.willazpasja.pl
SUMMARY:spotkanie z jogą gr. II
DESCRIPTION:joga dla seniorów | gimnastyka | ćwiczenia\nJeśli czujesz\, że twoje ciało zaczyna cię ograniczać i aktywność fizyczna staje się coraz trudniejsza\, że domowe obowiązki coraz bardziej cię męczą – koniecznie zapisz się na spotkanie z jogą. Pod okiem dr Krystyny Nowak – Malczewskiej nauczysz się ćwiczeń\, które pomogą ci przywrócić sprawność. \nUdział jest bezpłatny\, jednak ze względu na limit miejsc\, wcześniej trzeba się zapisać. Zapisy przyjmujemy na adres cal@dlatorunia.pl lub pod numerem telefonu 794-687-133. \nProjekt finansowany ze środków Gminy Miasta Torunia.
URL:https://www.willazpasja.pl/wydarzenie/spotkanie-z-joga-gr-2/
LOCATION:ogród
CATEGORIES:dla seniorów
ATTACH;FMTTYPE=image/jpeg:https://www.willazpasja.pl/wp-content/uploads/2020/07/joga_1200x628.jpg
ORGANIZER;CN="CAL Willa z pasj%C4%85":MAILTO:cal@dlatorunia.pl
END:VEVENT
BEGIN:VEVENT
DTSTART;TZID=Europe/Warsaw:20200714T100000
DTEND;TZID=Europe/Warsaw:20200714T110000
DTSTAMP:20260421T194001
CREATED:20200708T185750Z
LAST-MODIFIED:20200710T080947Z
UID:122-1594720800-1594724400@www.willazpasja.pl
SUMMARY:spotkanie z jogą gr. I
DESCRIPTION:joga dla seniorów | gimnastyka | ćwiczenia\nJeśli czujesz\, że twoje ciało zaczyna cię ograniczać i aktywność fizyczna staje się coraz trudniejsza\, że domowe obowiązki coraz bardziej cię męczą – koniecznie zapisz się na spotkanie z jogą dla seniorów. Pod okiem dr Krystyny Nowak – Malczewskiej nauczysz się ćwiczeń\, które pomogą ci przywrócić sprawność. \nUdział jest bezpłatny\, jednak ze względu na limit miejsc\, wcześniej trzeba się zapisać. Zapisy przyjmujemy na adres cal@dlatorunia.pl lub pod numerem telefonu 794-687-133. \nProjekt finansowany ze środków Gminy Miasta Torunia.
URL:https://www.willazpasja.pl/wydarzenie/spotkanie-z-joga/
LOCATION:ogród
CATEGORIES:dla seniorów
ATTACH;FMTTYPE=image/jpeg:https://www.willazpasja.pl/wp-content/uploads/2020/07/joga_1200x628.jpg
ORGANIZER;CN="CAL Willa z pasj%C4%85":MAILTO:cal@dlatorunia.pl
END:VEVENT
BEGIN:VEVENT
DTSTART;TZID=Europe/Warsaw:20200710T100000
DTEND;TZID=Europe/Warsaw:20200710T120000
DTSTAMP:20260421T194001
CREATED:20200705T092906Z
LAST-MODIFIED:20200710T082439Z
UID:100-1594375200-1594382400@www.willazpasja.pl
SUMMARY:spotkanie z seniorami | naturalne kosmetyki
DESCRIPTION:spotkanie z seniorami | naturalne kosmetyki\nPokażemy jak wykorzystać produkty\, które mamy w kuchni\, by wykonać ekologiczne kosmetyki. Bez sztucznych barwników i aromatów. Tylko naturalne składniki zawierające minerały\, witaminy\, które potrzebuje nasza skóra. \nUdział jest bezpłatny\, jednak ze względu na limit miejsc\, wcześniej trzeba się zapisać. Zapisy przyjmujemy na adres cal@dlatorunia.pl lub pod numerem telefonu 794-687-133. \nProjekt finansowany ze środków Gminy Miasta Torunia.
URL:https://www.willazpasja.pl/wydarzenie/spotkanie-z-seniorami-naturalne-kosmetyki/
LOCATION:kuchnia
CATEGORIES:dla seniorów
ATTACH;FMTTYPE=image/jpeg:https://www.willazpasja.pl/wp-content/uploads/2020/07/naturalne-kosmetyki-1200x628-1.jpg
ORGANIZER;CN="CAL Willa z pasj%C4%85":MAILTO:cal@dlatorunia.pl
END:VEVENT
BEGIN:VEVENT
DTSTART;TZID=Europe/Warsaw:20200709T160000
DTEND;TZID=Europe/Warsaw:20200709T180000
DTSTAMP:20260421T194001
CREATED:20200705T091540Z
LAST-MODIFIED:20200710T081403Z
UID:96-1594310400-1594317600@www.willazpasja.pl
SUMMARY:czwartek z rodziną | kółko i krzyżyk
DESCRIPTION:czwartek z rodziną | kółko i krzyżyk\nZrobimy samodzielnie najstarszą grę świata – kółko i krzyżyk.  To będzie hit wakacji! Ta prosta gra dostarcza masy emocji i radości dzieciom i dorosłym. Razem zrobimy \nUdział jest bezpłatny\, jednak ze względu na limit miejsc\, wcześniej trzeba się zapisać. Zapisy przyjmujemy na adres cal@dlatorunia.pl lub pod numerem telefonu 794-687-133. \nProjekt finansowany ze środków Gminy Miasta Torunia.
URL:https://www.willazpasja.pl/wydarzenie/czwartek-z-rodzina-kolko-i-krzyzyk/
LOCATION:sala duża\, ul. Grunwaldzka 38\, Toruń\, Poland\, 87-100\, Poland
CATEGORIES:dla rodziny
ATTACH;FMTTYPE=image/jpeg:https://www.willazpasja.pl/wp-content/uploads/2020/07/kółko-i-krzyżyk-1200x628-1.jpg
ORGANIZER;CN="CAL Willa z pasj%C4%85":MAILTO:cal@dlatorunia.pl
END:VEVENT
BEGIN:VEVENT
DTSTART;TZID=Europe/Warsaw:20200708T160000
DTEND;TZID=Europe/Warsaw:20200708T180000
DTSTAMP:20260421T194001
CREATED:20200705T085925Z
LAST-MODIFIED:20200707T104336Z
UID:93-1594224000-1594231200@www.willazpasja.pl
SUMMARY:warsztat artystyczny | łapacze snów
DESCRIPTION:Wykonaj z nami niezwykle piękną ozdobę sypialni\, tarasu\, balkonu… Łapacz snów jest bardzo efektownym drobiazgiem\, który zachwyca mnogością kolorów\, delikatnością piórek i misterną siecią sznurka. Idealny na prezent! \nUdział jest bezpłatny\, jednak ze względu na limit miejsc\, wcześniej trzeba się zapisać. Zapisy przyjmujemy na adres cal@dlatorunia.pl lub pod numerem telefonu 794-687-133. \nProjekt finansowany ze środków Gminy Miasta Torunia.
URL:https://www.willazpasja.pl/wydarzenie/warsztat-artystyczny-lapacze-snow/
LOCATION:sala duża\, ul. Grunwaldzka 38\, Toruń\, Poland\, 87-100\, Poland
CATEGORIES:dla rodziny
ATTACH;FMTTYPE=image/jpeg:https://www.willazpasja.pl/wp-content/uploads/2020/07/Łapacze-snów-1200x628-1.jpg
ORGANIZER;CN="CAL Willa z pasj%C4%85":MAILTO:cal@dlatorunia.pl
END:VEVENT
BEGIN:VEVENT
DTSTART;TZID=Europe/Warsaw:20200707T100000
DTEND;TZID=Europe/Warsaw:20200707T110000
DTSTAMP:20260421T194001
CREATED:20200704T203529Z
LAST-MODIFIED:20200705T132829Z
UID:74-1594116000-1594119600@www.willazpasja.pl
SUMMARY:gimnastyka
DESCRIPTION:W zdrowym ciele zdrowy duch\, dlatego zachęcamy do wspólnych ćwiczeń pod okiem dyplomowanej fizjoterapeutki. By uczestniczyć w zajęciach wystarczy chęć\, by wspólnie poruszać się dla zdrowia. Zabierz ze sobą wygodny strój i skarpetki. Udział jest bezpłatny\, jednak ze względu na limit miejsc\, wcześniej trzeba się zapisać. \nZapisy przyjmujemy na adres cal@dlatorunia.pl lub pod numerem telefonu 794-687-133.\n\nProjekt finansowany ze środków Gminy Miasta Torunia.
URL:https://www.willazpasja.pl/wydarzenie/gimnastyka/
LOCATION:sala teatralna\, ul. Grunwaldzka 38\, Toruń
CATEGORIES:dla seniorów
ATTACH;FMTTYPE=image/jpeg:https://www.willazpasja.pl/wp-content/uploads/2020/07/fizjoterapia_1200x628.jpg
ORGANIZER;CN="CAL Willa z pasj%C4%85":MAILTO:cal@dlatorunia.pl
END:VEVENT
END:VCALENDAR